BEGIN:VCALENDAR
VERSION:2.0
PRODID:-//wp-events-plugin.com//6.6.4.4//EN
BEGIN:VEVENT
UID:1073@landpartietango.de
DTSTART;TZID=Europe/Berlin:20260517T133000
DTEND;TZID=Europe/Berlin:20260517T160000
DTSTAMP:20260314T150513Z
URL:https://www.landpartietango.de/events/b-2-aufbau-workshop-weiter-tango
 -lernen/
SUMMARY:B.2 - Aufbau-Workshop | Weiter Tango lernen !
DESCRIPTION:Für die Teilnehmer der Anfänger-Workshops und für alle\, die
  sich von diesem Angebot angesprochen fühlen.\nWir wiederholen das Gelern
 te und vertiefen und erweitern das Tangorepertoire!\n\nBitte paarweise anm
 elden.\nPro Person 35 Euro\nAnmeldung: info@concorazon.de
ATTACH;FMTTYPE=image/jpeg:https://www.landpartietango.de/wp-content/upload
 s/2025/06/concorazon.jpg
CATEGORIES:Workshop
LOCATION:Das KARO im Müritz Nationalpark\, Klein Dratow 6\, Schloen-Dratow
 \, Mecklenburg-Vorpommern\, 17192\, Deutschland
GEO:53.506806;12.868812
X-APPLE-STRUCTURED-LOCATION;VALUE=URI;X-ADDRESS=Klein Dratow 6\, Schloen-Dr
 atow\, Mecklenburg-Vorpommern\, 17192\, Deutschland;X-APPLE-RADIUS=100;X-T
 ITLE=Das KARO im Müritz Nationalpark:geo:53.506806,12.868812
END:VEVENT
BEGIN:VTIMEZONE
TZID:Europe/Berlin
X-LIC-LOCATION:Europe/Berlin
BEGIN:DAYLIGHT
DTSTART:20260329T030000
TZOFFSETFROM:+0100
TZOFFSETTO:+0200
TZNAME:CEST
END:DAYLIGHT
END:VTIMEZONE
END:VCALENDAR