BEGIN:VCALENDAR
VERSION:2.0
PRODID:-//wp-events-plugin.com//6.6.4.4//EN
BEGIN:VEVENT
UID:1075@landpartietango.de
DTSTART;TZID=Europe/Berlin:20260525T143000
DTEND;TZID=Europe/Berlin:20260525T170000
DTSTAMP:20260325T131957Z
URL:https://www.landpartietango.de/events/c-2-themen-workshop/
SUMMARY:C.2 - Themen-Workshop
DESCRIPTION:14.30 - 16.00 Workshop - Boleo - der Schritt in die Luft\, Tech
 nik des Front Boleo und dynamische Variationen\n\nPro Person 20 Euro\nAnme
 ldung: info@concorazon.de\n\n16.00 - 17.00 gibt es die Möglichkeit zu tan
 zen\, zu üben und uns Lehrern Fragen zu stellen.\n\nWir sammeln für die 
 zusätzliche Miete...\n\n&nbsp\;\n\n&nbsp\;
ATTACH;FMTTYPE=image/jpeg:https://www.landpartietango.de/wp-content/upload
 s/2025/06/concorazon.jpg
CATEGORIES:Workshop
LOCATION:Das KARO im Müritz Nationalpark\, Klein Dratow 6\, Schloen-Dratow
 \, Mecklenburg-Vorpommern\, 17192\, Deutschland
GEO:53.506806;12.868812
X-APPLE-STRUCTURED-LOCATION;VALUE=URI;X-ADDRESS=Klein Dratow 6\, Schloen-Dr
 atow\, Mecklenburg-Vorpommern\, 17192\, Deutschland;X-APPLE-RADIUS=100;X-T
 ITLE=Das KARO im Müritz Nationalpark:geo:53.506806,12.868812
END:VEVENT
BEGIN:VTIMEZONE
TZID:Europe/Berlin
X-LIC-LOCATION:Europe/Berlin
BEGIN:DAYLIGHT
DTSTART:20260329T030000
TZOFFSETFROM:+0100
TZOFFSETTO:+0200
TZNAME:CEST
END:DAYLIGHT
END:VTIMEZONE
END:VCALENDAR