BEGIN:VCALENDAR
VERSION:2.0
PRODID:-//wp-events-plugin.com//6.6.4.4//EN
BEGIN:VEVENT
UID:171@landpartietango.de
DTSTART;TZID=Europe/Berlin:20250516T190000
DTEND;TZID=Europe/Berlin:20250516T225500
DTSTAMP:20250514T163257Z
URL:https://www.landpartietango.de/events/milonga-3/
SUMMARY:Milonga
DESCRIPTION:SPECIAL: Tango-Kleidungs-Flohmarkt !\n\nhttps://www.ballhaus-go
 ldfisch.de/veranstaltungen/wochenendangebote/
CATEGORIES:Milonga
LOCATION:Ballhaus Goldfisch in Greifswald\, Bahnhofstraße 44\, Greifswald\
 , Mecklenburg-Vorpommern\, 17489\, Deutschland
GEO:54.091518;13.374076
X-APPLE-STRUCTURED-LOCATION;VALUE=URI;X-ADDRESS=Bahnhofstraße 44\, Greifsw
 ald\, Mecklenburg-Vorpommern\, 17489\, Deutschland;X-APPLE-RADIUS=100;X-TI
 TLE=Ballhaus Goldfisch in Greifswald:geo:54.091518,13.374076
END:VEVENT
BEGIN:VTIMEZONE
TZID:Europe/Berlin
X-LIC-LOCATION:Europe/Berlin
BEGIN:DAYLIGHT
DTSTART:20250330T030000
TZOFFSETFROM:+0100
TZOFFSETTO:+0200
TZNAME:CEST
END:DAYLIGHT
END:VTIMEZONE
END:VCALENDAR