BEGIN:VCALENDAR
VERSION:2.0
PRODID:-//wp-events-plugin.com//6.6.4.4//EN
BEGIN:VEVENT
UID:1070@landpartietango.de
DTSTART;TZID=Europe/Berlin;VALUE=DATE:20260509
DTEND;TZID=Europe/Berlin;VALUE=DATE:20260511
DTSTAMP:20260312T095633Z
URL:https://www.landpartietango.de/events/milonga-und-workshops-mit-catali
 na-tomas/
SUMMARY:Milonga und Workshops mit Catalina & Tomás
DESCRIPTION:Samstag 09. Mai 16:15 - 17.30 Uhr und 18:00 - 19.15 Uhr\nDie Ma
 gie der Verbindung oder wie wir uns geheimnisvoll verschmelzend durch Raum
  und Zeit bewegen können.\nDaraus werden wir wunderschöne Kombinationen 
 aus der Mitte des Schrittes kreieren.\nTango zum Verlieben – versprochen
 !!!\n\nSamstag 09. Mai 19:30 - 23:59 Uhr\nMilonga und Mitbringbuffet\n\nSo
 nntag 10. Mai 11:00 – 12:15 Uhr und 12: 45 – 14:00 Uhr\nDer erste Teil
  handelt von der Entdeckung der Langsamkeit. Mit energiegeladener Spannung
  für noch mehr Abwechslung in eurem Tanz.\nIm zweiten Teil widmen wir uns
  einem Klassiker des Tangos: Alteraciones.\nAlteraciones sind gedrehte Wie
 geschritte\, die besonders im Vals mit Vorliebe getanzt werden.\n\nKosten 
 pro Tag und Person: 40 €\nPaarweise Anmeldung: bremen@studiolibertango.d
 e
ATTACH;FMTTYPE=image/jpeg:https://www.landpartietango.de/wp-content/upload
 s/2026/03/Unbenannt.jpeg
CATEGORIES:Mehrtägige Veranstaltung,Milonga,Workshop
LOCATION:Hertelsaal im Kunsthaus Neustrelitz\, Schloßstraße 2\, Neustreli
 tz\, Mecklenburg-Vorpommern\, 17235 \, Deutschland
GEO:53.362141;13.061157
X-APPLE-STRUCTURED-LOCATION;VALUE=URI;X-ADDRESS=Schloßstraße 2\, Neustrel
 itz\, Mecklenburg-Vorpommern\, 17235 \, Deutschland;X-APPLE-RADIUS=100;X-T
 ITLE=Hertelsaal im Kunsthaus Neustrelitz:geo:53.362141,13.061157
END:VEVENT
BEGIN:VTIMEZONE
TZID:Europe/Berlin
X-LIC-LOCATION:Europe/Berlin
BEGIN:DAYLIGHT
DTSTART:20260329T030000
TZOFFSETFROM:+0100
TZOFFSETTO:+0200
TZNAME:CEST
END:DAYLIGHT
END:VTIMEZONE
END:VCALENDAR