BEGIN:VCALENDAR
VERSION:2.0
PRODID:-//wp-events-plugin.com//6.6.4.4//EN
BEGIN:VEVENT
UID:910@landpartietango.de
DTSTART;TZID=Europe/Berlin:20260518T180000
DTEND;TZID=Europe/Berlin:20260518T200000
DTSTAMP:20251210T063043Z
URL:https://www.landpartietango.de/events/practilonga-2026-05-18/
SUMMARY:Practilonga
DESCRIPTION:immer montags Practilonga mit Sina und Siggi\n\n18.00 - 19.00 U
 hr Tango-Argentino-Unterricht\n19.00 - 20.00 Uhr Freies Tanzen\n\nMehr Inf
 os unter https://strelitzia-tango.de/
ATTACH;FMTTYPE=image/jpeg:https://www.landpartietango.de/wp-content/upload
 s/2025/05/Strelitzia-1.png
CATEGORIES:Milonga,Praktika
LOCATION:Hertelsaal im Kunsthaus Neustrelitz\, Schloßstraße 2\, Neustreli
 tz\, Mecklenburg-Vorpommern\, 17235 \, Deutschland
GEO:53.362141;13.061157
X-APPLE-STRUCTURED-LOCATION;VALUE=URI;X-ADDRESS=Schloßstraße 2\, Neustrel
 itz\, Mecklenburg-Vorpommern\, 17235 \, Deutschland;X-APPLE-RADIUS=100;X-T
 ITLE=Hertelsaal im Kunsthaus Neustrelitz:geo:53.362141,13.061157
END:VEVENT
BEGIN:VTIMEZONE
TZID:Europe/Berlin
X-LIC-LOCATION:Europe/Berlin
BEGIN:DAYLIGHT
DTSTART:20260329T030000
TZOFFSETFROM:+0100
TZOFFSETTO:+0200
TZNAME:CEST
END:DAYLIGHT
END:VTIMEZONE
END:VCALENDAR