BEGIN:VCALENDAR
VERSION:2.0
PRODID:-//wp-events-plugin.com//6.6.4.4//EN
BEGIN:VEVENT
UID:881@landpartietango.de
DTSTART;TZID=Europe/Berlin;VALUE=DATE:20260917
DTEND;TZID=Europe/Berlin;VALUE=DATE:20260921
DTSTAMP:20251201T153808Z
URL:https://www.landpartietango.de/events/stressfrei-fuehren-tango-horsema
 nship-intensivkurs-fuer-frauen/
SUMMARY:Stressfrei Führen: Tango & Horsemanship - Intensivkurs für Frauen
DESCRIPTION:In diesem Intensivkurs lernst du\, als Leader im Tango die Ruhe
  und das Feingefühl der Pferdesprache zu nutzen\, um Authentizität\, sou
 veräne Präsenz und feines Timing zu entwickeln. Speziell für Frauen kon
 zipiert\, gehen wir in die bewusste Verbindung mit uns selbst\, zu zweit i
 m Tango und mit dem Partner Pferd. Im geschützten Raum\, mitten in der Na
 tur\, stehen Freude\, spielerisches Entdecken und gemeinsames Ausprobieren
  im Vordergrund. Die Pferde helfen uns dabei\, ganz vorurteilsfrei Klarhei
 t und Präzision in unsere körpersprachliche Kommunikation zu bringen und
  das Timing in der Interaktion zu optimieren. Im Tango stärkst du darübe
 r hinaus mit Übungen zu Musikalität\, Rhythmik und Improvisation deine L
 eader-Qualitäten und deine kommunikative Präsenz.\n\nFür Frauen mit Tan
 go-Grundkenntnissen sowie fortgeschrittene Tänzerinnen\, die ihre Leader-
 Qualitäten vertiefen möchten\, Erfahrungen mit Pferden sind nicht erford
 erlich.\n\nMehr Infos und Anmeldung unter https://www.artquartier.de/works
 hops-und-seminare/tango-argentino/
ATTACH;FMTTYPE=image/jpeg:https://www.landpartietango.de/wp-content/upload
 s/2025/11/Tango-Fuesse-mit-Pferdekopf-scaled.jpg
CATEGORIES:Mehrtägige Veranstaltung,Workshop
LOCATION:ART.Quartier in Starkow\, Grafensteig 11\, Starkow\, Mecklenburg-V
 orpommern\, 18469\, Deutschland
GEO:54.273571;12.756349
X-APPLE-STRUCTURED-LOCATION;VALUE=URI;X-ADDRESS=Grafensteig 11\, Starkow\, 
 Mecklenburg-Vorpommern\, 18469\, Deutschland;X-APPLE-RADIUS=100;X-TITLE=AR
 T.Quartier in Starkow:geo:54.273571,12.756349
END:VEVENT
BEGIN:VTIMEZONE
TZID:Europe/Berlin
X-LIC-LOCATION:Europe/Berlin
BEGIN:DAYLIGHT
DTSTART:20260329T030000
TZOFFSETFROM:+0100
TZOFFSETTO:+0200
TZNAME:CEST
END:DAYLIGHT
END:VTIMEZONE
END:VCALENDAR