BEGIN:VCALENDAR
VERSION:2.0
PRODID:-//wp-events-plugin.com//6.6.4.4//EN
BEGIN:VEVENT
UID:988@landpartietango.de
DTSTART;TZID=Europe/Berlin;VALUE=DATE:20261016
DTEND;TZID=Europe/Berlin;VALUE=DATE:20261019
DTSTAMP:20260103T152347Z
URL:https://www.landpartietango.de/events/tango-am-meer-mit-diana-und-juan
 /
SUMMARY:Tango am Meer mit Diana und Juan
DESCRIPTION:Euch erwarten Workshops mit Diana del Valle &amp\; Juan Camerli
 ngo (https://dianayjuan.com/) und Milongas.\n\nMehr Infos und Anmeldung un
 ter https://www.tangoammeer.de/workshops/
CATEGORIES:Mehrtägige Veranstaltung,Milonga,Workshop
LOCATION:Zentrum Kirchlicher Dienste in Rostock\, Alter Markt 19\, Rostock\
 , Mecklenburg-Vorpommern\, 18055\, Deutschland
GEO:54.090971;12.147004
X-APPLE-STRUCTURED-LOCATION;VALUE=URI;X-ADDRESS=Alter Markt 19\, Rostock\, 
 Mecklenburg-Vorpommern\, 18055\, Deutschland;X-APPLE-RADIUS=100;X-TITLE=Ze
 ntrum Kirchlicher Dienste in Rostock:geo:54.090971,12.147004
END:VEVENT
BEGIN:VTIMEZONE
TZID:Europe/Berlin
X-LIC-LOCATION:Europe/Berlin
BEGIN:DAYLIGHT
DTSTART:20260329T030000
TZOFFSETFROM:+0100
TZOFFSETTO:+0200
TZNAME:CEST
END:DAYLIGHT
END:VTIMEZONE
END:VCALENDAR