BEGIN:VCALENDAR
VERSION:2.0
PRODID:-//wp-events-plugin.com//6.6.4.4//EN
BEGIN:VEVENT
UID:879@landpartietango.de
DTSTART;TZID=Europe/Berlin;VALUE=DATE:20260802
DTEND;TZID=Europe/Berlin;VALUE=DATE:20260808
DTSTAMP:20251201T154156Z
URL:https://www.landpartietango.de/events/tango-trifft-qigong-im-gut-ulric
 hshusen/
SUMMARY:Tango trifft Qigong im Gut Ulrichshusen
DESCRIPTION:Mit Tango und Qigong sind wir\, Gerrit Swaantje Schüler (Tango
 ) und Ingrid Reuther (Qigong)\, seit vielen Jahren einmal im Jahr im Schlo
 ss &amp\; Gut Ulrichshusen\, fühlen uns dort schon fast Zuhause.\nJetzt s
 ind wir aus dem Schloss „umgezogen“ ins Gut Ulrichshusen. Dort ist es 
 anders\, ruhiger\, kleiner. Es gibt wunderschöne Ferienwohnungen\, so das
 s es möglich ist sich selbst zu versorgen\, aber auch Frühstück gibt es
  direkt auf dem Gelände und eine Sauna!\nAm Morgen\, nach dem Frühstück
 \, beginnen wir mit dem Qigong. Genauer gesagt\, mit dem Nei Yang Gong\, e
 iner sehr weichen\, wunderbar bewegten\, fast tänzerisch anmutenden Form 
 des Qigong. Wann immer das Wetter es erlaubt\, üben wir draußen\, manchm
 al kreist der Adler über uns\, manchmal ziehen die Kraniche!\nTangokurse 
 und Tanzabende finden im Fohlenstall statt. Durch die Betonung eines guten
  Gleichgewichts\, der Körpermitte und einer entspannten und durchlässige
 n Körperhaltung im Qigong\, sind wir für den Tango bereits sehr gut vorb
 ereitet.\nHier kommt nun der Austausch und Kontakt mit der Partnerin oder 
 dem Partner dazu. Ich betone die Improvisationsmöglichkeiten die den Tang
 o ausmachen und ein Leben lang spannend sein lassen. Ich unterrichte Figur
 en\, aber niemals ohne gleichzeitig auf das Führen und Folgen zu achten\,
  auf einen feinen Kontakt im Paar\, auf Kombinationsmöglichkeiten mit ber
 eits Bekanntem\, auf Rhythmik und Musikalität. Beim abendlichen Tanzen gi
 bt es die Möglichkeit Fragen zu stellen (practica) oder einfach zu tanzen
 . Vom Anfänger bis zum Fortgeschrittenen – sei es im Tango\, sei es im 
 Qigong – uns ist jeder herzlich willkommen.\nIm Kurs haben die Teilnehme
 r:innen unterschiedlich viel Tanzerfahrung\, was ich als große Bereicheru
 ng erlebe!\nAm Qigong und am Tangokurs kann man teilnehmen\, muss man aber
  nicht.\n\nMehr Infos und Anmeldung unter https://www.in-tango-veritas.de/
 tango-trifft-qigong-im-gut-ulrichshusen-2026
ATTACH;FMTTYPE=image/jpeg:https://www.landpartietango.de/wp-content/upload
 s/2025/11/IMG_6471-scaled.jpeg
CATEGORIES:Mehrtägige Veranstaltung,Milonga,Praktika,Workshop
LOCATION:Gut Ulrichshusen\, Hofplatz\, Tressow\, Mecklenburg-Vorpommern\,  
 17194\, Deutschland
GEO:53.626949;12.668244
X-APPLE-STRUCTURED-LOCATION;VALUE=URI;X-ADDRESS=Hofplatz\, Tressow\, Meckle
 nburg-Vorpommern\,  17194\, Deutschland;X-APPLE-RADIUS=100;X-TITLE=Gut Ulr
 ichshusen:geo:53.626949,12.668244
END:VEVENT
BEGIN:VTIMEZONE
TZID:Europe/Berlin
X-LIC-LOCATION:Europe/Berlin
BEGIN:DAYLIGHT
DTSTART:20260329T030000
TZOFFSETFROM:+0100
TZOFFSETTO:+0200
TZNAME:CEST
END:DAYLIGHT
END:VTIMEZONE
END:VCALENDAR