BEGIN:VCALENDAR
VERSION:2.0
PRODID:-//wp-events-plugin.com//6.6.4.4//EN
BEGIN:VEVENT
UID:491@landpartietango.de
DTSTART;TZID=Europe/Berlin;VALUE=DATE:20260522
DTEND;TZID=Europe/Berlin;VALUE=DATE:20260526
DTSTAMP:20260317T075638Z
URL:https://www.landpartietango.de/events/tango-workshop-auf-der-insel-hid
 densee-2/
SUMMARY:Tango Argentino auf der Insel Hiddensee
DESCRIPTION:Mit diesem Workshop setzen wir\, Brigitte und Carlos\, unser Ta
 ngo-Aktivitäten auf der schönen Insel Hiddensee fort. Wir freuen uns seh
 r Ihnen 4 Tage Tango-Tanz anbieten zu können\, um ein paar ruhige Tage zu
  verbringen und gleichzeitig ein wenig mehr von diesem anspruchsvollen Tan
 z des argentinischen Tangos zu lernen.\n\nMehr Infos und Anmeldung unter T
 angomilonga - Home
ATTACH;FMTTYPE=image/jpeg:https://www.landpartietango.de/wp-content/upload
 s/2025/09/Pfinsten-2026-Hiddensee.jpg
CATEGORIES:Mehrtägige Veranstaltung,Milonga,Workshop
LOCATION:Henni-Lehmann-Haus auf Hiddendee\, Wiesenweg 2\, Vitte/Hiddensee\,
  Mecklenburg-Vorpommern\, 18565\, Deutschland
GEO:54.568961;13.10518
X-APPLE-STRUCTURED-LOCATION;VALUE=URI;X-ADDRESS=Wiesenweg 2\, Vitte/Hiddens
 ee\, Mecklenburg-Vorpommern\, 18565\, Deutschland;X-APPLE-RADIUS=100;X-TIT
 LE=Henni-Lehmann-Haus auf Hiddendee:geo:54.568961,13.10518
END:VEVENT
BEGIN:VTIMEZONE
TZID:Europe/Berlin
X-LIC-LOCATION:Europe/Berlin
BEGIN:DAYLIGHT
DTSTART:20260329T030000
TZOFFSETFROM:+0100
TZOFFSETTO:+0200
TZNAME:CEST
END:DAYLIGHT
END:VTIMEZONE
END:VCALENDAR