BEGIN:VCALENDAR
VERSION:2.0
PRODID:-//wp-events-plugin.com//6.6.4.4//EN
BEGIN:VEVENT
UID:158@landpartietango.de
DTSTART;TZID=Europe/Berlin:20250509T160000
DTEND;TZID=Europe/Berlin:20250509T190000
DTSTAMP:20250517T081831Z
URL:https://www.landpartietango.de/events/tangocafe-2025-05-09/
SUMMARY:Tangocafé
DESCRIPTION:An jedem 2. und 4. Freitag im Monat mischen wir uns im Café Ze
 itlos unter die Anwesenden und tanzen von 16 bis 19 Uhr Tango nach Musik v
 om Band. Dazu gibt es Kaffee\, Kuchen\, Eis oder was Euer Herz begehrt. Je
 der ist willkommen\, ob Alt- oder Neu-Fürstenberger\, Urlauber\, Leute au
 f der Durchreise (in Bahnhofsnähe!)\, es darf getanzt oder auch nur zuges
 chaut werden.\n\nTermine 2025 (kurzfristige Änderungen vorbehalten):\n\nh
 ttps://haveltango.org/tangocafe/\n\n09.05.2025\n\n23.05.2025\n\n13.06.2025
 \n\n27.06.2025\n\n11.07.2025\n\n25.07.2025\n\n08.08.2025\n\n22.08.2025\n\n
 12.09.2025\n\n26.09.2025\n\n10.10.2025 ?\n\n24.10.2025\n\n14.11.2025\n\n28
 .11.2025\n\n12.12.2025
ATTACH;FMTTYPE=image/jpeg:https://www.landpartietango.de/wp-content/upload
 s/2025/05/cropped-haveltango_farbe-scaled-1.webp
CATEGORIES:Milonga
LOCATION:Café Zeitlos in Fürstenberg/Havel\, Bahnhofstraße 8\, Fürstenb
 erg/Havel\, Brandenburg\, 16798\, Deutschland
GEO:53.185359;13.142024
X-APPLE-STRUCTURED-LOCATION;VALUE=URI;X-ADDRESS=Bahnhofstraße 8\, Fürsten
 berg/Havel\, Brandenburg\, 16798\, Deutschland;X-APPLE-RADIUS=100;X-TITLE=
 Café Zeitlos in Fürstenberg/Havel:geo:53.185359,13.142024
END:VEVENT
BEGIN:VTIMEZONE
TZID:Europe/Berlin
X-LIC-LOCATION:Europe/Berlin
BEGIN:DAYLIGHT
DTSTART:20250330T030000
TZOFFSETFROM:+0100
TZOFFSETTO:+0200
TZNAME:CEST
END:DAYLIGHT
END:VTIMEZONE
END:VCALENDAR