BEGIN:VCALENDAR
VERSION:2.0
PRODID:-//wp-events-plugin.com//6.6.4.4//EN
BEGIN:VEVENT
UID:983@landpartietango.de
DTSTART;TZID=Europe/Berlin:20260828T160000
DTEND;TZID=Europe/Berlin:20260828T190000
DTSTAMP:20260227T091006Z
URL:https://www.landpartietango.de/events/tangocafe-6-2026-08-28/
SUMMARY:Tangocafé in Fürstenberg an der Havel
DESCRIPTION:An jedem 2. und 4. Freitag im Monat mischen wir uns im Café Ze
 itlos unter die Anwesenden und tanzen von 16 bis 19 Uhr Tango nach Musik v
 om Band. Dazu gibt es Kaffee\, Kuchen\, Eis oder was Euer Herz begehrt. Je
 der ist willkommen\, ob Alt- oder Neu-Fürstenberger\, Urlauber\, Leute au
 f der Durchreise (in Bahnhofsnähe!)\, es darf getanzt oder auch nur zuges
 chaut werden.\n\nkurzfristige Änderungen vorbehalten\n\nmehr Infos unter
  https://haveltango.org/tangocafe/
ATTACH;FMTTYPE=image/jpeg:https://www.landpartietango.de/wp-content/upload
 s/2025/05/cropped-haveltango_farbe-scaled-1.webp
CATEGORIES:Milonga
LOCATION:Café Zeitlos in Fürstenberg/Havel\, Bahnhofstraße 8\, Fürstenb
 erg/Havel\, Brandenburg\, 16798\, Deutschland
GEO:53.185359;13.142024
X-APPLE-STRUCTURED-LOCATION;VALUE=URI;X-ADDRESS=Bahnhofstraße 8\, Fürsten
 berg/Havel\, Brandenburg\, 16798\, Deutschland;X-APPLE-RADIUS=100;X-TITLE=
 Café Zeitlos in Fürstenberg/Havel:geo:53.185359,13.142024
END:VEVENT
BEGIN:VTIMEZONE
TZID:Europe/Berlin
X-LIC-LOCATION:Europe/Berlin
BEGIN:DAYLIGHT
DTSTART:20260329T030000
TZOFFSETFROM:+0100
TZOFFSETTO:+0200
TZNAME:CEST
END:DAYLIGHT
END:VTIMEZONE
END:VCALENDAR