BEGIN:VCALENDAR
VERSION:2.0
PRODID:-//wp-events-plugin.com//6.6.4.4//EN
BEGIN:VEVENT
UID:999@landpartietango.de
DTSTART;TZID=Europe/Berlin;VALUE=DATE:20261120
DTEND;TZID=Europe/Berlin;VALUE=DATE:20261123
DTSTAMP:20260203T092019Z
URL:https://www.landpartietango.de/events/tangowochenende-im-landhaus-alte
 -schmiede-in-niemegk/
SUMMARY:Tangowochenende im Landhaus Alte Schmiede in Niemegk
DESCRIPTION:Mehr Infos und Anmeldung unter Tanzwochenende in Brandenburg im
  Landhaus Alte Schmiede
CATEGORIES:Mehrtägige Veranstaltung,Milonga,Workshop
LOCATION:Landhaus Alte Schmiede in Niemegk\, Dorfstrasse 13\, Niemegk - Lü
 hnsdorf\, Brandenburg\, 14823\, Deutschland
GEO:52.080907;12.638249
X-APPLE-STRUCTURED-LOCATION;VALUE=URI;X-ADDRESS=Dorfstrasse 13\, Niemegk - 
 Lühnsdorf\, Brandenburg\, 14823\, Deutschland;X-APPLE-RADIUS=100;X-TITLE=
 Landhaus Alte Schmiede in Niemegk:geo:52.080907,12.638249
END:VEVENT
BEGIN:VTIMEZONE
TZID:Europe/Berlin
X-LIC-LOCATION:Europe/Berlin
BEGIN:STANDARD
DTSTART:20261025T020000
TZOFFSETFROM:+0200
TZOFFSETTO:+0100
TZNAME:CET
END:STANDARD
END:VTIMEZONE
END:VCALENDAR