BEGIN:VCALENDAR
VERSION:2.0
PRODID:-//wp-events-plugin.com//6.6.4.4//EN
BEGIN:VEVENT
UID:950@landpartietango.de
DTSTART;TZID=Europe/Berlin;VALUE=DATE:20260710
DTEND;TZID=Europe/Berlin;VALUE=DATE:20260713
DTSTAMP:20251217T064013Z
URL:https://www.landpartietango.de/events/thanari-tango-retreat/
SUMMARY:Thanari Tango Retreat
DESCRIPTION:Das Thanari Tango Retreat findet nun bereits zum 6. Mal auf dem
  Thanari Kunst-Werk-Hof bei Putlitz statt. Es ist ein Tangoevent für fort
 geschrittene Tänzer. Eine Anmeldung ist zwingend erforderlich.\n\nWas euc
 h erwartet :\n- Tages- &amp\; Abend-Milongas mit internationalen DJ's\n- P
 ractica &amp\; Chacarera mit Juli Emmerich\n- Yoga-Morgenstrech\n- Tai Chi
  &amp\; Massagen (Shiatsu) mit Michael Winkler\n- Tango Privatstunden auf 
 Anfrage bei unseren DJ´s\n- leckeres Essen überwiegend bio und aus dem e
 igenen Garten\n- Badetonne am Abend\n- Sonnenuntergänge auf dem Feld\n- 
 Überraschung\n\nÜbernachtet werden kann in Zelten oder eigenen Campern (
 Preise auf der Webseite)\n\nWeitere Informationen zum Hof und dem Event un
 d zur Anmeldung gibt's hier:\nwww.thanaritangoretreat.com
ATTACH;FMTTYPE=image/jpeg:https://www.landpartietango.de/wp-content/upload
 s/2025/12/3.jpeg
CATEGORIES:Mehrtägige Veranstaltung,Milonga,Workshop
LOCATION:Thanari Kunst-Werk-Hof in Putlitz\, Karstädter Chaussee 6\, Putli
 tz\, Brandenburg\, 16949\, Deutschland
GEO:53.240541;12.022055
X-APPLE-STRUCTURED-LOCATION;VALUE=URI;X-ADDRESS=Karstädter Chaussee 6\, Pu
 tlitz\, Brandenburg\, 16949\, Deutschland;X-APPLE-RADIUS=100;X-TITLE=Thana
 ri Kunst-Werk-Hof in Putlitz:geo:53.240541,12.022055
END:VEVENT
BEGIN:VTIMEZONE
TZID:Europe/Berlin
X-LIC-LOCATION:Europe/Berlin
BEGIN:DAYLIGHT
DTSTART:20260329T030000
TZOFFSETFROM:+0100
TZOFFSETTO:+0200
TZNAME:CEST
END:DAYLIGHT
END:VTIMEZONE
END:VCALENDAR