BEGIN:VCALENDAR
VERSION:2.0
PRODID:-//wp-events-plugin.com//6.6.4.4//EN
BEGIN:VEVENT
UID:1085@landpartietango.de
DTSTART;TZID=Europe/Berlin:20260517T140000
DTEND;TZID=Europe/Berlin:20260517T180000
DTSTAMP:20260324T093444Z
URL:https://www.landpartietango.de/events/workshop-und-milonga/
SUMMARY:Workshop und Milonga
DESCRIPTION:14.00 - 16.00 Workshop anmutige Sequenzen aus dem Kreuz mit Dor
 een &amp\; Bernd\, maximal 6 Paare\n\n16.00 - 18.00 Milonga\, maximal 10 P
 aare\n\nNur mit Anmeldung bei Christiane Brusch\, 0172 7862072!
ATTACH;FMTTYPE=image/jpeg:https://www.landpartietango.de/wp-content/upload
 s/2026/03/IMG-20260319-WA0001.jpg
CATEGORIES:Milonga,Workshop
LOCATION:Kunst am Markt – Offenes Atelier in Güstrow\, Markt 25\, Güstr
 ow\, Mecklenburg-Vorpommern\, 18273\, Deutschland
GEO:53.792846;12.175832
X-APPLE-STRUCTURED-LOCATION;VALUE=URI;X-ADDRESS=Markt 25\, Güstrow\, Meckl
 enburg-Vorpommern\, 18273\, Deutschland;X-APPLE-RADIUS=100;X-TITLE=Kunst a
 m Markt – Offenes Atelier in Güstrow:geo:53.792846,12.175832
END:VEVENT
BEGIN:VTIMEZONE
TZID:Europe/Berlin
X-LIC-LOCATION:Europe/Berlin
BEGIN:DAYLIGHT
DTSTART:20260329T030000
TZOFFSETFROM:+0100
TZOFFSETTO:+0200
TZNAME:CEST
END:DAYLIGHT
END:VTIMEZONE
END:VCALENDAR